BEGIN:VCALENDAR
VERSION:2.0
PRODID:-//Compagnie Les Désaxés Théâtre - ECPv6.15.20//NONSGML v1.0//EN
CALSCALE:GREGORIAN
METHOD:PUBLISH
X-WR-CALNAME:Compagnie Les Désaxés Théâtre
X-ORIGINAL-URL:http://desaxestheatre.fr
X-WR-CALDESC:Évènements pour Compagnie Les Désaxés Théâtre
REFRESH-INTERVAL;VALUE=DURATION:PT1H
X-Robots-Tag:noindex
X-PUBLISHED-TTL:PT1H
BEGIN:VTIMEZONE
TZID:Europe/Paris
BEGIN:DAYLIGHT
TZOFFSETFROM:+0100
TZOFFSETTO:+0200
TZNAME:CEST
DTSTART:20240331T010000
END:DAYLIGHT
BEGIN:STANDARD
TZOFFSETFROM:+0200
TZOFFSETTO:+0100
TZNAME:CET
DTSTART:20241027T010000
END:STANDARD
BEGIN:DAYLIGHT
TZOFFSETFROM:+0100
TZOFFSETTO:+0200
TZNAME:CEST
DTSTART:20250330T010000
END:DAYLIGHT
BEGIN:STANDARD
TZOFFSETFROM:+0200
TZOFFSETTO:+0100
TZNAME:CET
DTSTART:20251026T010000
END:STANDARD
BEGIN:DAYLIGHT
TZOFFSETFROM:+0100
TZOFFSETTO:+0200
TZNAME:CEST
DTSTART:20260329T010000
END:DAYLIGHT
BEGIN:STANDARD
TZOFFSETFROM:+0200
TZOFFSETTO:+0100
TZNAME:CET
DTSTART:20261025T010000
END:STANDARD
END:VTIMEZONE
BEGIN:VEVENT
DTSTART;TZID=Europe/Paris:20250916T140000
DTEND;TZID=Europe/Paris:20250916T163000
DTSTAMP:20260422T044850
CREATED:20250703T174713Z
LAST-MODIFIED:20250703T174713Z
UID:11433-1758031200-1758040200@desaxestheatre.fr
SUMMARY:16 septembre 2025 à 14h00 - Théâtre citoyen - Saint-Forgeux-de-l'ESpinasse (42)
DESCRIPTION:Théâtre Citoyen- \nConception : Lionel Armand\nJeu : Juliette Lemoine\, Séverine Anglada\, Anthony Liébault et Lionel Armand\nProduction : Cie Les désaxés Théâtre\nChargée d’administration : Séverine Cohen
URL:http://desaxestheatre.fr/evenement/16-septembre-2025-a-14h00-theatre-citoyen-saint-forgeux-de-lespinasse-42/
CATEGORIES:spectacle,Théâtre,théâtre citoyen
ATTACH;FMTTYPE=image/png:http://desaxestheatre.fr/wp-content/uploads/2025/07/0756af78-a9c1-4e1a-9d44-5654c8b42629.png
END:VEVENT
BEGIN:VEVENT
DTSTART;TZID=Europe/Paris:20250920T150000
DTEND;TZID=Europe/Paris:20250920T160000
DTSTAMP:20260422T044850
CREATED:20250722T211059Z
LAST-MODIFIED:20250722T211326Z
UID:11592-1758380400-1758384000@desaxestheatre.fr
SUMMARY:20 septembre 2025 - Constellation\, histoire du patrimoine littéraire - médiathèque de Meyzieu -15h00
DESCRIPTION:Constellation\, une histoire du patrimoine littéraire ! Samedi 20 septembre\, 15h00 Médiathèque municipale Rhône \nGratuit\, sur inscriptions à partir du 6 septembre. \ndurée : de 15h00 à 16h00 \nLes élèves des ateliers adultes de la compagnie Les Désaxés Théâtre et les élèves de la section Art dramatique du Conservatoire municipal lisent un florilège de textes qui appartiennent au patrimoine littéraire français. De Molière à Racine en passant par Éluard et Prévert\, Constellation nous offre un voyage dans le temps et une plongée dans les grandes œuvres qui font la culture d’hier\, d’aujourd’hui et de demain.\nConception et lectures dirigées par Lionel ARMAND \nMédiathèque municipale 27 RUE LOUIS SAULNIER 69330 Meyzieu\n 0437443070\nhttp://bm-meyzieu.fr \nTram T3 – arrêt Meyzieu Gare. Bus 67 – arrêt Salle des fêtes. Bus 95 – arrêt Ch. de Gaulle. \nCie Les Désaxés Théâtre ©Laëtitia Fuchs
URL:http://desaxestheatre.fr/evenement/20-septembre-2025-constellation-histoire-du-patrimoine-litteraire-mediatheque-de-meyzieu-15h00/
LOCATION:Médiathèque de Meyzieu
CATEGORIES:lecture publique,spectacle,Théâtre
ATTACH;FMTTYPE=image/jpeg:http://desaxestheatre.fr/wp-content/uploads/2025/01/302A2175-1.jpeg
END:VEVENT
BEGIN:VEVENT
DTSTART;TZID=Europe/Paris:20250923T143000
DTEND;TZID=Europe/Paris:20250923T170000
DTSTAMP:20260422T044850
CREATED:20250722T195422Z
LAST-MODIFIED:20250722T201559Z
UID:11547-1758637800-1758646800@desaxestheatre.fr
SUMMARY:23 septembre 2025 à 20h00 - Théâtre Citoyen - Autun (71)
DESCRIPTION:Conception : Lionel Armand\nJeu : Juliette Lemoine\, Séverine Anglada\, Anthony Liébault et Lionel Armand\nProduction : Cie Les Désaxés Théâtre\nChargée d’administration : Séverine Cohen
URL:http://desaxestheatre.fr/evenement/23-septembre-2025-a-20h00-theatre-citoyen-autun-71/
LOCATION:autun
CATEGORIES:spectacle,Théâtre,théâtre citoyen
ATTACH;FMTTYPE=image/jpeg:http://desaxestheatre.fr/wp-content/uploads/2025/07/302A7889-scaled.jpeg
END:VEVENT
BEGIN:VEVENT
DTSTART;TZID=Europe/Paris:20250925T080000
DTEND;TZID=Europe/Paris:20250925T170000
DTSTAMP:20260422T044850
CREATED:20250903T104116Z
LAST-MODIFIED:20250903T104613Z
UID:11636-1758787200-1758819600@desaxestheatre.fr
SUMMARY:25 septembre 2025 - Théâtre Citoyen - Saint-Amour (39) - 14h30
DESCRIPTION:
URL:http://desaxestheatre.fr/evenement/25-septembre-2025-theatre-citoyen-saint-amour-39-14h30/
LOCATION:Saint-Amour
CATEGORIES:spectacle,théâtre citoyen
END:VEVENT
BEGIN:VEVENT
DTSTART;TZID=Europe/Paris:20250930T080000
DTEND;TZID=Europe/Paris:20250930T170000
DTSTAMP:20260422T044850
CREATED:20250903T104926Z
LAST-MODIFIED:20250903T105022Z
UID:11640-1759219200-1759251600@desaxestheatre.fr
SUMMARY:30 septembre 2025 - Théâtre Citoyen- Ecully ( 69) 18h00
DESCRIPTION:
URL:http://desaxestheatre.fr/evenement/30-septembre-2025-theatre-citoyen-ecully-69/
LOCATION:Ecully (69)
CATEGORIES:spectacle,Théâtre,théâtre citoyen
END:VEVENT
END:VCALENDAR