BEGIN:VCALENDAR
VERSION:2.0
PRODID:-//Compagnie Les Désaxés Théâtre - ECPv6.15.20//NONSGML v1.0//EN
CALSCALE:GREGORIAN
METHOD:PUBLISH
X-ORIGINAL-URL:http://desaxestheatre.fr
X-WR-CALDESC:Évènements pour Compagnie Les Désaxés Théâtre
REFRESH-INTERVAL;VALUE=DURATION:PT1H
X-Robots-Tag:noindex
X-PUBLISHED-TTL:PT1H
BEGIN:VTIMEZONE
TZID:Europe/Paris
BEGIN:DAYLIGHT
TZOFFSETFROM:+0100
TZOFFSETTO:+0200
TZNAME:CEST
DTSTART:20240331T010000
END:DAYLIGHT
BEGIN:STANDARD
TZOFFSETFROM:+0200
TZOFFSETTO:+0100
TZNAME:CET
DTSTART:20241027T010000
END:STANDARD
BEGIN:DAYLIGHT
TZOFFSETFROM:+0100
TZOFFSETTO:+0200
TZNAME:CEST
DTSTART:20250330T010000
END:DAYLIGHT
BEGIN:STANDARD
TZOFFSETFROM:+0200
TZOFFSETTO:+0100
TZNAME:CET
DTSTART:20251026T010000
END:STANDARD
BEGIN:DAYLIGHT
TZOFFSETFROM:+0100
TZOFFSETTO:+0200
TZNAME:CEST
DTSTART:20260329T010000
END:DAYLIGHT
BEGIN:STANDARD
TZOFFSETFROM:+0200
TZOFFSETTO:+0100
TZNAME:CET
DTSTART:20261025T010000
END:STANDARD
END:VTIMEZONE
BEGIN:VEVENT
DTSTART;TZID=Europe/Paris:20250916T140000
DTEND;TZID=Europe/Paris:20250916T163000
DTSTAMP:20260422T065458
CREATED:20250703T174713Z
LAST-MODIFIED:20250703T174713Z
UID:11433-1758031200-1758040200@desaxestheatre.fr
SUMMARY:16 septembre 2025 à 14h00 - Théâtre citoyen - Saint-Forgeux-de-l'ESpinasse (42)
DESCRIPTION:Théâtre Citoyen- \nConception : Lionel Armand\nJeu : Juliette Lemoine\, Séverine Anglada\, Anthony Liébault et Lionel Armand\nProduction : Cie Les désaxés Théâtre\nChargée d’administration : Séverine Cohen
URL:http://desaxestheatre.fr/evenement/16-septembre-2025-a-14h00-theatre-citoyen-saint-forgeux-de-lespinasse-42/
CATEGORIES:spectacle,Théâtre,théâtre citoyen
ATTACH;FMTTYPE=image/png:http://desaxestheatre.fr/wp-content/uploads/2025/07/0756af78-a9c1-4e1a-9d44-5654c8b42629.png
END:VEVENT
END:VCALENDAR