BEGIN:VCALENDAR
VERSION:2.0
PRODID:-//Compagnie Les Désaxés Théâtre - ECPv6.15.20//NONSGML v1.0//EN
CALSCALE:GREGORIAN
METHOD:PUBLISH
X-ORIGINAL-URL:http://desaxestheatre.fr
X-WR-CALDESC:Évènements pour Compagnie Les Désaxés Théâtre
REFRESH-INTERVAL;VALUE=DURATION:PT1H
X-Robots-Tag:noindex
X-PUBLISHED-TTL:PT1H
BEGIN:VTIMEZONE
TZID:Europe/Paris
BEGIN:DAYLIGHT
TZOFFSETFROM:+0100
TZOFFSETTO:+0200
TZNAME:CEST
DTSTART:20240331T010000
END:DAYLIGHT
BEGIN:STANDARD
TZOFFSETFROM:+0200
TZOFFSETTO:+0100
TZNAME:CET
DTSTART:20241027T010000
END:STANDARD
BEGIN:DAYLIGHT
TZOFFSETFROM:+0100
TZOFFSETTO:+0200
TZNAME:CEST
DTSTART:20250330T010000
END:DAYLIGHT
BEGIN:STANDARD
TZOFFSETFROM:+0200
TZOFFSETTO:+0100
TZNAME:CET
DTSTART:20251026T010000
END:STANDARD
BEGIN:DAYLIGHT
TZOFFSETFROM:+0100
TZOFFSETTO:+0200
TZNAME:CEST
DTSTART:20260329T010000
END:DAYLIGHT
BEGIN:STANDARD
TZOFFSETFROM:+0200
TZOFFSETTO:+0100
TZNAME:CET
DTSTART:20261025T010000
END:STANDARD
END:VTIMEZONE
BEGIN:VEVENT
DTSTART;TZID=Europe/Paris:20251125T153000
DTEND;TZID=Europe/Paris:20251125T173000
DTSTAMP:20260422T030121
CREATED:20251123T171127Z
LAST-MODIFIED:20251123T171201Z
UID:11725-1764084600-1764091800@desaxestheatre.fr
SUMMARY:25 novembre 2025 - Théâtre Citoyen - Vieux et Citoyen- Tain l'Hermitage (26)
DESCRIPTION:Théâtre citoyen lors du forum des seniors à Tain l’hermitage (26) – 15H30 à 17H00\nARCHE AGGLO\nRenseignements : 04 26 78 39 28 \n\n“Vieux et citoyen”\nConception : Lionel Armand\nJeu : Anthony Liébault\, Juliette Lemoine\, Lionel Armand et Séverine Anglada\nChargée de Production et Diffusion : Séverine Cohen\nProduction : Cie Les Désaxés Théâtre.
URL:http://desaxestheatre.fr/evenement/25-novembre-2025-theatre-citoyen-vieux-et-citoyen-tain-lhermitage-26/
LOCATION:Tain L’hermitage – salle charles Trenet\, Tain l'hermitage
CATEGORIES:spectacle,théâtre citoyen
ATTACH;FMTTYPE=image/jpeg:http://desaxestheatre.fr/wp-content/uploads/2025/11/302A4492-scaled.jpeg
END:VEVENT
END:VCALENDAR