BEGIN:VCALENDAR
VERSION:2.0
PRODID:-//Compagnie Les Désaxés Théâtre - ECPv6.15.20//NONSGML v1.0//EN
CALSCALE:GREGORIAN
METHOD:PUBLISH
X-WR-CALNAME:Compagnie Les Désaxés Théâtre
X-ORIGINAL-URL:http://desaxestheatre.fr
X-WR-CALDESC:Évènements pour Compagnie Les Désaxés Théâtre
REFRESH-INTERVAL;VALUE=DURATION:PT1H
X-Robots-Tag:noindex
X-PUBLISHED-TTL:PT1H
BEGIN:VTIMEZONE
TZID:Europe/Paris
BEGIN:DAYLIGHT
TZOFFSETFROM:+0100
TZOFFSETTO:+0200
TZNAME:CEST
DTSTART:20240331T010000
END:DAYLIGHT
BEGIN:STANDARD
TZOFFSETFROM:+0200
TZOFFSETTO:+0100
TZNAME:CET
DTSTART:20241027T010000
END:STANDARD
BEGIN:DAYLIGHT
TZOFFSETFROM:+0100
TZOFFSETTO:+0200
TZNAME:CEST
DTSTART:20250330T010000
END:DAYLIGHT
BEGIN:STANDARD
TZOFFSETFROM:+0200
TZOFFSETTO:+0100
TZNAME:CET
DTSTART:20251026T010000
END:STANDARD
BEGIN:DAYLIGHT
TZOFFSETFROM:+0100
TZOFFSETTO:+0200
TZNAME:CEST
DTSTART:20260329T010000
END:DAYLIGHT
BEGIN:STANDARD
TZOFFSETFROM:+0200
TZOFFSETTO:+0100
TZNAME:CET
DTSTART:20261025T010000
END:STANDARD
END:VTIMEZONE
BEGIN:VEVENT
DTSTART;TZID=Europe/Paris:20251128T143000
DTEND;TZID=Europe/Paris:20251128T173000
DTSTAMP:20260422T025835
CREATED:20251123T171818Z
LAST-MODIFIED:20251123T171827Z
UID:11728-1764340200-1764351000@desaxestheatre.fr
SUMMARY:29 novembre 2025 - Théâtre Citoyen - Bien vieillir\, vieillir mieux - Beynost (01)
DESCRIPTION:Théâtre Citoyen – Tournée Automne 2025 – \n\n\nLe Comité Action sociale Agirc-Arrco Rhône-Alpes\, en partenariat avec le Centre d’Action Sociale de Beynost (CCAS) a le plaisir de vous inviter à une après-midi récréative sur le thème Vieillir oui\, mais vieillir bien ! en compagnie de la troupe « Les désaxés théâtre ». \n« Vieillir heureux ! » \nVendredi 28 novembre 2025 de 14h30 à 16h30 \nAu Complexe du Mas du Roux \n41 rue du midi \n01700 BEYNOST \nQuatre comédiens professionnels de la cie Les Désaxés Théâtre aborderont avec humour et réalisme au travers de 5 ou 6 scénettes le thème de l’avancée en âge et de la retraite\, ce nouvel espace-temps qu’il faut apprivoiser\, le tout dans une dynamique vivifiante ! \nCes scénettes sont des bouts de vie\, des histoires de nos existences qui prêtent à sourire et à rire de nous-mêmes. \nElles nous interrogent sur : Comment réaliser ce dont nous rêvons depuis fort longtemps et qu’il nous était impossible d’entreprendre avant la retraite ?  la notion de temps après des années de travail ? la maîtrise des nouvelles technologies pour rester en contact avec le progrès et les jeunes générations ? Vieillir heureux\, c’est aussi préserver ou retrouver l’estime de soi\, prendre soin de son corps\, envisager de vivre de nouvelles aventures… \n  \n Un temps d’échange animé par Arnaud Pirodon\, psychologue\, prolongera ce spectacle. \nL’inscription est gratuite et obligatoire auprès du CCAS de Beynost au 04 78 55 56 27 ou par mail à  \nccas@ville-beynost.fr en indiquant vos nom et prénom et en précisant si vous serez accompagné(e). \n\n\n\nBien Vieillir\, vieillir mieux”\nConception : Lionel Armand\nJeu : Anthony Liébault\, Juliette Lemoine\, Lionel Armand et Séverine Anglada\nChargée de Production et Diffusion : Séverine Cohen\nProduction : Cie Les Désaxés Théâtre.
URL:http://desaxestheatre.fr/evenement/29-novembre-2025-theatre-citoyen-bien-vieillir-vieillir-mieux-beynost-01/
LOCATION:le mas du Roux\, Beynost
CATEGORIES:spectacle,théâtre citoyen
ATTACH;FMTTYPE=image/jpeg:http://desaxestheatre.fr/wp-content/uploads/2025/07/Impro-pour-affiche--scaled.jpg
END:VEVENT
END:VCALENDAR