BEGIN:VCALENDAR
VERSION:2.0
PRODID:-//Compagnie Les Désaxés Théâtre - ECPv6.15.20//NONSGML v1.0//EN
CALSCALE:GREGORIAN
METHOD:PUBLISH
X-ORIGINAL-URL:http://desaxestheatre.fr
X-WR-CALDESC:Évènements pour Compagnie Les Désaxés Théâtre
REFRESH-INTERVAL;VALUE=DURATION:PT1H
X-Robots-Tag:noindex
X-PUBLISHED-TTL:PT1H
BEGIN:VTIMEZONE
TZID:Europe/Paris
BEGIN:DAYLIGHT
TZOFFSETFROM:+0100
TZOFFSETTO:+0200
TZNAME:CEST
DTSTART:20240331T010000
END:DAYLIGHT
BEGIN:STANDARD
TZOFFSETFROM:+0200
TZOFFSETTO:+0100
TZNAME:CET
DTSTART:20241027T010000
END:STANDARD
BEGIN:DAYLIGHT
TZOFFSETFROM:+0100
TZOFFSETTO:+0200
TZNAME:CEST
DTSTART:20250330T010000
END:DAYLIGHT
BEGIN:STANDARD
TZOFFSETFROM:+0200
TZOFFSETTO:+0100
TZNAME:CET
DTSTART:20251026T010000
END:STANDARD
BEGIN:DAYLIGHT
TZOFFSETFROM:+0100
TZOFFSETTO:+0200
TZNAME:CEST
DTSTART:20260329T010000
END:DAYLIGHT
BEGIN:STANDARD
TZOFFSETFROM:+0200
TZOFFSETTO:+0100
TZNAME:CET
DTSTART:20261025T010000
END:STANDARD
END:VTIMEZONE
BEGIN:VEVENT
DTSTART;TZID=Europe/Paris:20251129T203000
DTEND;TZID=Europe/Paris:20251129T223000
DTSTAMP:20260422T025946
CREATED:20251123T172231Z
LAST-MODIFIED:20251123T172237Z
UID:11732-1764448200-1764455400@desaxestheatre.fr
SUMMARY:29 novembre 2025 - Chantier Théâtral - Meyzieu
DESCRIPTION:Chantier Théâtral 2025.\n20H30- salle des fêtes de Meyzieu.\nLes élèves adultes de la Compagnie proposent le premier rendez-vous de la saison pour les deux cours.\nScènes de travail autour des écritures contemporaines de Joel Pommerat et de Lucy Kirckwood.\nTravaux dirigés par Lionel Armand et Anthony Liébault\nEntrée libre.\nRéservation conseillée au 04 78 04 20 62 ou sur reservations@desaxestheatre.fr
URL:http://desaxestheatre.fr/evenement/29-novembre-2025-chantier-theatral-meyzieu/
LOCATION:Salle des fêtes de Meyzieu\, place Burignat
CATEGORIES:spectacle,Théâtre,Transmission
ATTACH;FMTTYPE=image/jpeg:http://desaxestheatre.fr/wp-content/uploads/2025/11/flyer-chantier-2025.sla_.autosave-page001.jpg
ORGANIZER;CN="Cie Les D%C3%A9sax%C3%A9s Th%C3%A9atre":MAILTO:contact@desaxestheatre.fr
END:VEVENT
END:VCALENDAR