BEGIN:VCALENDAR
VERSION:2.0
PRODID:-//Compagnie Les Désaxés Théâtre - ECPv6.15.20//NONSGML v1.0//EN
CALSCALE:GREGORIAN
METHOD:PUBLISH
X-WR-CALNAME:Compagnie Les Désaxés Théâtre
X-ORIGINAL-URL:http://desaxestheatre.fr
X-WR-CALDESC:Évènements pour Compagnie Les Désaxés Théâtre
REFRESH-INTERVAL;VALUE=DURATION:PT1H
X-Robots-Tag:noindex
X-PUBLISHED-TTL:PT1H
BEGIN:VTIMEZONE
TZID:Europe/Paris
BEGIN:DAYLIGHT
TZOFFSETFROM:+0100
TZOFFSETTO:+0200
TZNAME:CEST
DTSTART:20240331T010000
END:DAYLIGHT
BEGIN:STANDARD
TZOFFSETFROM:+0200
TZOFFSETTO:+0100
TZNAME:CET
DTSTART:20241027T010000
END:STANDARD
BEGIN:DAYLIGHT
TZOFFSETFROM:+0100
TZOFFSETTO:+0200
TZNAME:CEST
DTSTART:20250330T010000
END:DAYLIGHT
BEGIN:STANDARD
TZOFFSETFROM:+0200
TZOFFSETTO:+0100
TZNAME:CET
DTSTART:20251026T010000
END:STANDARD
BEGIN:DAYLIGHT
TZOFFSETFROM:+0100
TZOFFSETTO:+0200
TZNAME:CEST
DTSTART:20260329T010000
END:DAYLIGHT
BEGIN:STANDARD
TZOFFSETFROM:+0200
TZOFFSETTO:+0100
TZNAME:CET
DTSTART:20261025T010000
END:STANDARD
END:VTIMEZONE
BEGIN:VEVENT
DTSTART;TZID=Europe/Paris:20251203T140000
DTEND;TZID=Europe/Paris:20251203T160000
DTSTAMP:20260422T005831
CREATED:20251123T173816Z
LAST-MODIFIED:20251123T173940Z
UID:11741-1764770400-1764777600@desaxestheatre.fr
SUMMARY:3 décembre 2025 - Théâtre Citoyen - Bien Vieillir\, Mieux Vieillir" -Joué-les-Tours (37)
DESCRIPTION:Théâtre Citoyen/2025 – ” Vieillir bien\, Vieillir mieux”\nMNPEM ( Michelin France) \nÉvénement privé et réservé au personnel Michelin. \nConception : Lionel Armand\nJeu : Lionel Armand\, Anthony Liébault\, Juliette Lemoine et Séverine Anglada\nChargée de Production et Diffusion : Séverine Cohen\nProduction : Cie Les Désaxés Théâtre.
URL:http://desaxestheatre.fr/evenement/3-decembre-2025-theatre-citoyen-bien-vieillir-mieux-vieillir-joue-les-tours-37/
LOCATION:Joué-les-tours
CATEGORIES:spectacle,théâtre citoyen
ATTACH;FMTTYPE=image/jpeg:http://desaxestheatre.fr/wp-content/uploads/2025/11/302A4590-scaled.jpeg
END:VEVENT
END:VCALENDAR