BEGIN:VCALENDAR
VERSION:2.0
PRODID:-//Compagnie Les Désaxés Théâtre - ECPv6.15.20//NONSGML v1.0//EN
CALSCALE:GREGORIAN
METHOD:PUBLISH
X-ORIGINAL-URL:http://desaxestheatre.fr
X-WR-CALDESC:Évènements pour Compagnie Les Désaxés Théâtre
REFRESH-INTERVAL;VALUE=DURATION:PT1H
X-Robots-Tag:noindex
X-PUBLISHED-TTL:PT1H
BEGIN:VTIMEZONE
TZID:Europe/Paris
BEGIN:DAYLIGHT
TZOFFSETFROM:+0100
TZOFFSETTO:+0200
TZNAME:CEST
DTSTART:20250330T010000
END:DAYLIGHT
BEGIN:STANDARD
TZOFFSETFROM:+0200
TZOFFSETTO:+0100
TZNAME:CET
DTSTART:20251026T010000
END:STANDARD
BEGIN:DAYLIGHT
TZOFFSETFROM:+0100
TZOFFSETTO:+0200
TZNAME:CEST
DTSTART:20260329T010000
END:DAYLIGHT
BEGIN:STANDARD
TZOFFSETFROM:+0200
TZOFFSETTO:+0100
TZNAME:CET
DTSTART:20261025T010000
END:STANDARD
BEGIN:DAYLIGHT
TZOFFSETFROM:+0100
TZOFFSETTO:+0200
TZNAME:CEST
DTSTART:20270328T010000
END:DAYLIGHT
BEGIN:STANDARD
TZOFFSETFROM:+0200
TZOFFSETTO:+0100
TZNAME:CET
DTSTART:20271031T010000
END:STANDARD
END:VTIMEZONE
BEGIN:VEVENT
DTSTART;TZID=Europe/Paris:20260313T183000
DTEND;TZID=Europe/Paris:20260313T200000
DTSTAMP:20260421T195205
CREATED:20260220T162050Z
LAST-MODIFIED:20260220T162050Z
UID:11846-1773426600-1773432000@desaxestheatre.fr
SUMMARY:13 mars 2026 - Théâtre citoyen - Hérieux
DESCRIPTION:Ton écran dans ma tête \n18H30 \n\nThéâtre Citoyen “Ton écran dans ma tête”\nConception : Lionel Armand\nJeu : Lionel Armand\, Anthony Liébault\, Juliette Lemoine et Séverine Anglada\nChargée de Production et Diffusion : Séverine Cohen\nProduction : Cie Les Désaxés Théâtre.
URL:http://desaxestheatre.fr/evenement/13-mars-2026-theatre-citoyen-herieux/
LOCATION:Hérieux
CATEGORIES:spectacle,Théâtre,théâtre citoyen
ATTACH;FMTTYPE=image/jpeg:http://desaxestheatre.fr/wp-content/uploads/2024/10/302A7959-scaled.jpeg
END:VEVENT
END:VCALENDAR