BEGIN:VCALENDAR
VERSION:2.0
PRODID:-//Compagnie Les Désaxés Théâtre - ECPv6.15.20//NONSGML v1.0//EN
CALSCALE:GREGORIAN
METHOD:PUBLISH
X-ORIGINAL-URL:http://desaxestheatre.fr
X-WR-CALDESC:Évènements pour Compagnie Les Désaxés Théâtre
REFRESH-INTERVAL;VALUE=DURATION:PT1H
X-Robots-Tag:noindex
X-PUBLISHED-TTL:PT1H
BEGIN:VTIMEZONE
TZID:Europe/Paris
BEGIN:DAYLIGHT
TZOFFSETFROM:+0100
TZOFFSETTO:+0200
TZNAME:CEST
DTSTART:20250330T010000
END:DAYLIGHT
BEGIN:STANDARD
TZOFFSETFROM:+0200
TZOFFSETTO:+0100
TZNAME:CET
DTSTART:20251026T010000
END:STANDARD
BEGIN:DAYLIGHT
TZOFFSETFROM:+0100
TZOFFSETTO:+0200
TZNAME:CEST
DTSTART:20260329T010000
END:DAYLIGHT
BEGIN:STANDARD
TZOFFSETFROM:+0200
TZOFFSETTO:+0100
TZNAME:CET
DTSTART:20261025T010000
END:STANDARD
BEGIN:DAYLIGHT
TZOFFSETFROM:+0100
TZOFFSETTO:+0200
TZNAME:CEST
DTSTART:20270328T010000
END:DAYLIGHT
BEGIN:STANDARD
TZOFFSETFROM:+0200
TZOFFSETTO:+0100
TZNAME:CET
DTSTART:20271031T010000
END:STANDARD
END:VTIMEZONE
BEGIN:VEVENT
DTSTART;TZID=Europe/Paris:20260327T063000
DTEND;TZID=Europe/Paris:20260327T203000
DTSTAMP:20260421T195206
CREATED:20260220T170341Z
LAST-MODIFIED:20260220T170932Z
UID:11866-1774593000-1774643400@desaxestheatre.fr
SUMMARY:27 mars 2026 - Théâtre Citoyen - Violences conjugales - Caluire (69)
DESCRIPTION:“Les violences conjugales”\n\nCentre social Caluire – 18H30/19H00\nDirection Laure Besset.\n\n\nConception : Lionel Armand\nJeu : Lionel Armand\, Anthony Liébault\, Juliette Lemoine et Séverine Anglada\nChargée de production de la Cie : Séverine Cohen\nProduction : Compagnie Les Désaxés Théâtre
URL:http://desaxestheatre.fr/evenement/27-mars-2026-theatre-citoyen-violences-conjugales-caluire-69/
LOCATION:Centre social Caluire
CATEGORIES:spectacle,Théâtre,théâtre citoyen
ATTACH;FMTTYPE=image/jpeg:http://desaxestheatre.fr/wp-content/uploads/2023/10/Impro-416-scaled.jpg
END:VEVENT
END:VCALENDAR