BEGIN:VCALENDAR
VERSION:2.0
PRODID:-//Compagnie Les Désaxés Théâtre - ECPv6.15.20//NONSGML v1.0//EN
CALSCALE:GREGORIAN
METHOD:PUBLISH
X-WR-CALNAME:Compagnie Les Désaxés Théâtre
X-ORIGINAL-URL:http://desaxestheatre.fr
X-WR-CALDESC:Évènements pour Compagnie Les Désaxés Théâtre
REFRESH-INTERVAL;VALUE=DURATION:PT1H
X-Robots-Tag:noindex
X-PUBLISHED-TTL:PT1H
BEGIN:VTIMEZONE
TZID:Europe/Paris
BEGIN:DAYLIGHT
TZOFFSETFROM:+0100
TZOFFSETTO:+0200
TZNAME:CEST
DTSTART:20250330T010000
END:DAYLIGHT
BEGIN:STANDARD
TZOFFSETFROM:+0200
TZOFFSETTO:+0100
TZNAME:CET
DTSTART:20251026T010000
END:STANDARD
BEGIN:DAYLIGHT
TZOFFSETFROM:+0100
TZOFFSETTO:+0200
TZNAME:CEST
DTSTART:20260329T010000
END:DAYLIGHT
BEGIN:STANDARD
TZOFFSETFROM:+0200
TZOFFSETTO:+0100
TZNAME:CET
DTSTART:20261025T010000
END:STANDARD
BEGIN:DAYLIGHT
TZOFFSETFROM:+0100
TZOFFSETTO:+0200
TZNAME:CEST
DTSTART:20270328T010000
END:DAYLIGHT
BEGIN:STANDARD
TZOFFSETFROM:+0200
TZOFFSETTO:+0100
TZNAME:CET
DTSTART:20271031T010000
END:STANDARD
END:VTIMEZONE
BEGIN:VEVENT
DTSTART;TZID=Europe/Paris:20260423T090000
DTEND;TZID=Europe/Paris:20260423T153000
DTSTAMP:20260421T162240
CREATED:20260220T163535Z
LAST-MODIFIED:20260220T164039Z
UID:11854-1776934800-1776958200@desaxestheatre.fr
SUMMARY:23 avril 2026 - Théâtre Citoyen Vaugneray (69)  - Journée des Jeunes Citoyens
DESCRIPTION:Théâtre Citoyen “ton écran dans ma tête !” et\nReprésentations pour des classes de CM2 des écoles de Vaugneray pour la journée des Jeunes Citoyens.\nLes représentations sont suivies d’une discussion et d’un jeu collectif réalisé par Lionel Armand (ECRANS/HARCELEMENT)\nMJC de Vaugneray\nCoordination  : Amélie Chavanat ( responsable jeunesse).\nConception : Lionel Armand\nJeu : Lionel Armand\, Anthony Liébault\, Juliette Lemoine et Séverine Anglada\nChargée de Production et Diffusion : Séverine Cohen\nProduction : Cie Les Désaxés Théâtre.
URL:http://desaxestheatre.fr/evenement/23-avril-2026-theatre-citoyen-vaugneray-69-journee-des-jeunes-citoyens/
LOCATION:MJC de Vaugneray
CATEGORIES:spectacle,Théâtre,théâtre citoyen
ATTACH;FMTTYPE=image/jpeg:http://desaxestheatre.fr/wp-content/uploads/2025/11/302A4590-scaled.jpeg
END:VEVENT
END:VCALENDAR