BEGIN:VCALENDAR
VERSION:2.0
PRODID:-//Compagnie Les Désaxés Théâtre - ECPv6.15.20//NONSGML v1.0//EN
CALSCALE:GREGORIAN
METHOD:PUBLISH
X-ORIGINAL-URL:http://desaxestheatre.fr
X-WR-CALDESC:Évènements pour Compagnie Les Désaxés Théâtre
REFRESH-INTERVAL;VALUE=DURATION:PT1H
X-Robots-Tag:noindex
X-PUBLISHED-TTL:PT1H
BEGIN:VTIMEZONE
TZID:Europe/Paris
BEGIN:DAYLIGHT
TZOFFSETFROM:+0100
TZOFFSETTO:+0200
TZNAME:CEST
DTSTART:20250330T010000
END:DAYLIGHT
BEGIN:STANDARD
TZOFFSETFROM:+0200
TZOFFSETTO:+0100
TZNAME:CET
DTSTART:20251026T010000
END:STANDARD
BEGIN:DAYLIGHT
TZOFFSETFROM:+0100
TZOFFSETTO:+0200
TZNAME:CEST
DTSTART:20260329T010000
END:DAYLIGHT
BEGIN:STANDARD
TZOFFSETFROM:+0200
TZOFFSETTO:+0100
TZNAME:CET
DTSTART:20261025T010000
END:STANDARD
BEGIN:DAYLIGHT
TZOFFSETFROM:+0100
TZOFFSETTO:+0200
TZNAME:CEST
DTSTART:20270328T010000
END:DAYLIGHT
BEGIN:STANDARD
TZOFFSETFROM:+0200
TZOFFSETTO:+0100
TZNAME:CET
DTSTART:20271031T010000
END:STANDARD
END:VTIMEZONE
BEGIN:VEVENT
DTSTART;TZID=Europe/Paris:20260428T143000
DTEND;TZID=Europe/Paris:20260428T170000
DTSTAMP:20260421T161702
CREATED:20260127T211405Z
LAST-MODIFIED:20260127T211405Z
UID:11841-1777386600-1777395600@desaxestheatre.fr
SUMMARY:28 avril 2026 - Théâtre Citoyen - Vieillir bien\, vieillir mieux - Baumes les Dames ( 25)
DESCRIPTION:  \n\nThéâtre Citoyen/2026 \nCentre d’Affaires et des rencontres  à Baumes les Dames. 14H30 \nVieillir bien\, Vieillir mieux\nConception : Lionel Armand\nJeu : Lionel Armand\, Anthony Liébault\, Juliette Lemoine et Séverine Anglada\nChargée de Production et Diffusion : Séverine Cohen\nProduction : Cie Les Désaxés Théâtre.
URL:http://desaxestheatre.fr/evenement/28-avril-2026-theatre-citoyen-vieillir-bien-vieillir-mieux-baumes-les-dames-25/
CATEGORIES:spectacle,théâtre citoyen
ATTACH;FMTTYPE=image/jpeg:http://desaxestheatre.fr/wp-content/uploads/2025/07/Impro-pour-affiche--scaled.jpg
END:VEVENT
END:VCALENDAR