BEGIN:VCALENDAR
VERSION:2.0
PRODID:-//Compagnie Les Désaxés Théâtre - ECPv6.15.20//NONSGML v1.0//EN
CALSCALE:GREGORIAN
METHOD:PUBLISH
X-WR-CALNAME:Compagnie Les Désaxés Théâtre
X-ORIGINAL-URL:http://desaxestheatre.fr
X-WR-CALDESC:Évènements pour Compagnie Les Désaxés Théâtre
REFRESH-INTERVAL;VALUE=DURATION:PT1H
X-Robots-Tag:noindex
X-PUBLISHED-TTL:PT1H
BEGIN:VTIMEZONE
TZID:Europe/Paris
BEGIN:DAYLIGHT
TZOFFSETFROM:+0100
TZOFFSETTO:+0200
TZNAME:CEST
DTSTART:20250330T010000
END:DAYLIGHT
BEGIN:STANDARD
TZOFFSETFROM:+0200
TZOFFSETTO:+0100
TZNAME:CET
DTSTART:20251026T010000
END:STANDARD
BEGIN:DAYLIGHT
TZOFFSETFROM:+0100
TZOFFSETTO:+0200
TZNAME:CEST
DTSTART:20260329T010000
END:DAYLIGHT
BEGIN:STANDARD
TZOFFSETFROM:+0200
TZOFFSETTO:+0100
TZNAME:CET
DTSTART:20261025T010000
END:STANDARD
BEGIN:DAYLIGHT
TZOFFSETFROM:+0100
TZOFFSETTO:+0200
TZNAME:CEST
DTSTART:20270328T010000
END:DAYLIGHT
BEGIN:STANDARD
TZOFFSETFROM:+0200
TZOFFSETTO:+0100
TZNAME:CET
DTSTART:20271031T010000
END:STANDARD
END:VTIMEZONE
BEGIN:VEVENT
DTSTART;TZID=Europe/Paris:20260430T133000
DTEND;TZID=Europe/Paris:20260430T153000
DTSTAMP:20260421T161457
CREATED:20260220T171434Z
LAST-MODIFIED:20260220T171657Z
UID:11871-1777555800-1777563000@desaxestheatre.fr
SUMMARY:30 avril 2026 - Théâtre Citoyen - Vénissieux (69)
DESCRIPTION:Ville de Vénissieux (69)\n“addiction et conduite à risque.”\n\n\n\nConception : Lionel Armand\nJeu : Lionel Armand\, Anthony Liébault\, Juliette Lemoine et Séverine Anglada\nChargée de production de la Cie : Séverine Cohen\nProduction : Compagnie Les Désaxés Théâtre
URL:http://desaxestheatre.fr/evenement/30-avril-2026-theatre-citoyen-venissieux-69/
LOCATION:salle irène Jolliot vénissieux\, Vénissieux
CATEGORIES:spectacle,Théâtre,théâtre citoyen
ATTACH;FMTTYPE=image/jpeg:http://desaxestheatre.fr/wp-content/uploads/2025/07/302A7955-scaled.jpeg
END:VEVENT
END:VCALENDAR