BEGIN:VCALENDAR
VERSION:2.0
PRODID:-//Compagnie Les Désaxés Théâtre - ECPv6.15.20//NONSGML v1.0//EN
CALSCALE:GREGORIAN
METHOD:PUBLISH
X-WR-CALNAME:Compagnie Les Désaxés Théâtre
X-ORIGINAL-URL:http://desaxestheatre.fr
X-WR-CALDESC:Évènements pour Compagnie Les Désaxés Théâtre
REFRESH-INTERVAL;VALUE=DURATION:PT1H
X-Robots-Tag:noindex
X-PUBLISHED-TTL:PT1H
BEGIN:VTIMEZONE
TZID:Europe/Paris
BEGIN:DAYLIGHT
TZOFFSETFROM:+0100
TZOFFSETTO:+0200
TZNAME:CEST
DTSTART:20250330T010000
END:DAYLIGHT
BEGIN:STANDARD
TZOFFSETFROM:+0200
TZOFFSETTO:+0100
TZNAME:CET
DTSTART:20251026T010000
END:STANDARD
BEGIN:DAYLIGHT
TZOFFSETFROM:+0100
TZOFFSETTO:+0200
TZNAME:CEST
DTSTART:20260329T010000
END:DAYLIGHT
BEGIN:STANDARD
TZOFFSETFROM:+0200
TZOFFSETTO:+0100
TZNAME:CET
DTSTART:20261025T010000
END:STANDARD
BEGIN:DAYLIGHT
TZOFFSETFROM:+0100
TZOFFSETTO:+0200
TZNAME:CEST
DTSTART:20270328T010000
END:DAYLIGHT
BEGIN:STANDARD
TZOFFSETFROM:+0200
TZOFFSETTO:+0100
TZNAME:CET
DTSTART:20271031T010000
END:STANDARD
END:VTIMEZONE
BEGIN:VEVENT
DTSTART;TZID=Europe/Paris:20260528T203000
DTEND;TZID=Europe/Paris:20260530T223000
DTSTAMP:20260421T213339
CREATED:20260220T194449Z
LAST-MODIFIED:20260220T194449Z
UID:11895-1780000200-1780180200@desaxestheatre.fr
SUMMARY:28 au 30 mai 2026 - Spectacles adultes - Meyzieu (69)
DESCRIPTION:Du  jeudi au samedi 23 mai à 20H30 à la salle des fêtes de Meyzieu.\nSpectacle des adultes cours art dramatique dirigé par Anthony Liébault\nEn cours de préparation. \n  \nRéservations souhaitées à partir du lundi 4 mai 2026 : reservations@desaxestheatre.fr
URL:http://desaxestheatre.fr/evenement/28-au-30-mai-2026-spectacles-adultes-meyzieu-69/
LOCATION:Salle des fêtes de Meyzieu\, place Burignat
CATEGORIES:spectacle,Théâtre,Transmission
ATTACH;FMTTYPE=image/jpeg:http://desaxestheatre.fr/wp-content/uploads/2025/06/302A2848-scaled.jpeg
ORGANIZER;CN="Cie Les D%C3%A9sax%C3%A9s Th%C3%A9atre":MAILTO:contact@desaxestheatre.fr
END:VEVENT
END:VCALENDAR