BEGIN:VCALENDAR
VERSION:2.0
PRODID:-//Compagnie Les Désaxés Théâtre - ECPv6.15.20//NONSGML v1.0//EN
CALSCALE:GREGORIAN
METHOD:PUBLISH
X-WR-CALNAME:Compagnie Les Désaxés Théâtre
X-ORIGINAL-URL:https://desaxestheatre.fr
X-WR-CALDESC:Évènements pour Compagnie Les Désaxés Théâtre
REFRESH-INTERVAL;VALUE=DURATION:PT1H
X-Robots-Tag:noindex
X-PUBLISHED-TTL:PT1H
BEGIN:VTIMEZONE
TZID:Europe/Paris
BEGIN:DAYLIGHT
TZOFFSETFROM:+0100
TZOFFSETTO:+0200
TZNAME:CEST
DTSTART:20240331T010000
END:DAYLIGHT
BEGIN:STANDARD
TZOFFSETFROM:+0200
TZOFFSETTO:+0100
TZNAME:CET
DTSTART:20241027T010000
END:STANDARD
BEGIN:DAYLIGHT
TZOFFSETFROM:+0100
TZOFFSETTO:+0200
TZNAME:CEST
DTSTART:20250330T010000
END:DAYLIGHT
BEGIN:STANDARD
TZOFFSETFROM:+0200
TZOFFSETTO:+0100
TZNAME:CET
DTSTART:20251026T010000
END:STANDARD
BEGIN:DAYLIGHT
TZOFFSETFROM:+0100
TZOFFSETTO:+0200
TZNAME:CEST
DTSTART:20260329T010000
END:DAYLIGHT
BEGIN:STANDARD
TZOFFSETFROM:+0200
TZOFFSETTO:+0100
TZNAME:CET
DTSTART:20261025T010000
END:STANDARD
END:VTIMEZONE
BEGIN:VEVENT
DTSTART;TZID=Europe/Paris:20250902T080000
DTEND;TZID=Europe/Paris:20250902T170000
DTSTAMP:20260424T033622
CREATED:20250703T172425Z
LAST-MODIFIED:20250703T172524Z
UID:11422-1756800000-1756832400@desaxestheatre.fr
SUMMARY:2 et 3 septembre 2025 - 15h00 à 19h00 - Portes ouvertes/rencontres/ cie Les Désaxés Théâtre
DESCRIPTION:Nous vous accueillons à la compagnie pour échanger sur les activités que nous proposons pour la saisons 2025-2026 ( cours\, stages\, ateliers\, interventions).\nVenez rencontrer les intervenants théâtre!
URL:https://desaxestheatre.fr/evenement/2-et-3-septembre-2025-15h00-a-19h00-portes-ouvertes-rencontres-cie-les-desaxes-theatre/
LOCATION:Cie Les Désaxés Théâtre –\, 12 avenue Lucien Buisson\, Meyzieu\, 69330
CATEGORIES:Actualités
ATTACH;FMTTYPE=image/jpeg:https://desaxestheatre.fr/wp-content/uploads/2025/07/20240916_205232-scaled.jpg
ORGANIZER;CN="Cie Les D%C3%A9sax%C3%A9s Th%C3%A9atre":MAILTO:contact@desaxestheatre.fr
END:VEVENT
END:VCALENDAR