BEGIN:VCALENDAR
VERSION:2.0
PRODID:-//Compagnie Les Désaxés Théâtre - ECPv6.15.20//NONSGML v1.0//EN
CALSCALE:GREGORIAN
METHOD:PUBLISH
X-WR-CALNAME:Compagnie Les Désaxés Théâtre
X-ORIGINAL-URL:https://desaxestheatre.fr
X-WR-CALDESC:Évènements pour Compagnie Les Désaxés Théâtre
REFRESH-INTERVAL;VALUE=DURATION:PT1H
X-Robots-Tag:noindex
X-PUBLISHED-TTL:PT1H
BEGIN:VTIMEZONE
TZID:Europe/Paris
BEGIN:DAYLIGHT
TZOFFSETFROM:+0100
TZOFFSETTO:+0200
TZNAME:CEST
DTSTART:20210328T010000
END:DAYLIGHT
BEGIN:STANDARD
TZOFFSETFROM:+0200
TZOFFSETTO:+0100
TZNAME:CET
DTSTART:20211031T010000
END:STANDARD
BEGIN:DAYLIGHT
TZOFFSETFROM:+0100
TZOFFSETTO:+0200
TZNAME:CEST
DTSTART:20220327T010000
END:DAYLIGHT
BEGIN:STANDARD
TZOFFSETFROM:+0200
TZOFFSETTO:+0100
TZNAME:CET
DTSTART:20221030T010000
END:STANDARD
BEGIN:DAYLIGHT
TZOFFSETFROM:+0100
TZOFFSETTO:+0200
TZNAME:CEST
DTSTART:20230326T010000
END:DAYLIGHT
BEGIN:STANDARD
TZOFFSETFROM:+0200
TZOFFSETTO:+0100
TZNAME:CET
DTSTART:20231029T010000
END:STANDARD
END:VTIMEZONE
BEGIN:VEVENT
DTSTART;VALUE=DATE:20220530
DTEND;VALUE=DATE:20220603
DTSTAMP:20260424T151348
CREATED:20220430T155137Z
LAST-MODIFIED:20220430T155137Z
UID:6077-1653868800-1654214399@desaxestheatre.fr
SUMMARY:Répétitions PINOCCHIO
DESCRIPTION:
URL:https://desaxestheatre.fr/evenement/repetitions-pinocchio/
LOCATION:Espace Jean Poperen\, Meyzieu\, 69330
CATEGORIES:Créations
ATTACH;FMTTYPE=image/png:https://desaxestheatre.fr/wp-content/uploads/2022/04/logo-5.png
END:VEVENT
BEGIN:VEVENT
DTSTART;TZID=Europe/Paris:20220602T200000
DTEND;TZID=Europe/Paris:20220602T230000
DTSTAMP:20260424T151348
CREATED:20220430T160430Z
LAST-MODIFIED:20220430T160858Z
UID:6086-1654200000-1654210800@desaxestheatre.fr
SUMMARY:LES TIGRES - Villy-en-Auxois
DESCRIPTION:
URL:https://desaxestheatre.fr/evenement/les-tigres-4/
LOCATION:Villy-en-Auxois\, Centre\, Villy-en-Auxois\, 21707\, France
CATEGORIES:Créations
ATTACH;FMTTYPE=image/jpeg:https://desaxestheatre.fr/wp-content/uploads/2022/04/les-Tigres-Lionel-ARMAND-avril-2022-4.jpg
END:VEVENT
END:VCALENDAR