BEGIN:VCALENDAR
VERSION:2.0
PRODID:-//Compagnie Les Désaxés Théâtre - ECPv6.15.20//NONSGML v1.0//EN
CALSCALE:GREGORIAN
METHOD:PUBLISH
X-WR-CALNAME:Compagnie Les Désaxés Théâtre
X-ORIGINAL-URL:https://desaxestheatre.fr
X-WR-CALDESC:Évènements pour Compagnie Les Désaxés Théâtre
REFRESH-INTERVAL;VALUE=DURATION:PT1H
X-Robots-Tag:noindex
X-PUBLISHED-TTL:PT1H
BEGIN:VTIMEZONE
TZID:Europe/Paris
BEGIN:DAYLIGHT
TZOFFSETFROM:+0100
TZOFFSETTO:+0200
TZNAME:CEST
DTSTART:20220327T010000
END:DAYLIGHT
BEGIN:STANDARD
TZOFFSETFROM:+0200
TZOFFSETTO:+0100
TZNAME:CET
DTSTART:20221030T010000
END:STANDARD
BEGIN:DAYLIGHT
TZOFFSETFROM:+0100
TZOFFSETTO:+0200
TZNAME:CEST
DTSTART:20230326T010000
END:DAYLIGHT
BEGIN:STANDARD
TZOFFSETFROM:+0200
TZOFFSETTO:+0100
TZNAME:CET
DTSTART:20231029T010000
END:STANDARD
BEGIN:DAYLIGHT
TZOFFSETFROM:+0100
TZOFFSETTO:+0200
TZNAME:CEST
DTSTART:20240331T010000
END:DAYLIGHT
BEGIN:STANDARD
TZOFFSETFROM:+0200
TZOFFSETTO:+0100
TZNAME:CET
DTSTART:20241027T010000
END:STANDARD
END:VTIMEZONE
BEGIN:VEVENT
DTSTART;TZID=Europe/Paris:20231006T093000
DTEND;TZID=Europe/Paris:20231006T223000
DTSTAMP:20260423T175125
CREATED:20231003T203818Z
LAST-MODIFIED:20231003T205831Z
UID:10058-1696584600-1696631400@desaxestheatre.fr
SUMMARY:06 octobre 2023 - Impros-Débat - Macon (71)
DESCRIPTION:Évènement organisé par l’Argic-Arcco Bourgogne-Franche-Comté.\ndans le cadre du salon ” entre’aidants\, une aventure humaine”\nSite de Champlevert.\nCoproduction : Ville de Macon\, Département de la Saône-et-Loire\, Conférence des financeurs.\nAvec La compagnie Les Désaxés Théâtre. Concepteur : Lionel Aramand. Comédiens : Juliette Lemoine\, Séverine Anglada\, Anthony Liébault et Lionel Armand
URL:https://desaxestheatre.fr/evenement/06-octobre-2023-impros-debat-macon-71/
LOCATION:Macon – Parc Tir à l’arc.\, Macon
CATEGORIES:Impros-débat,Théâtre
ATTACH;FMTTYPE=image/jpeg:https://desaxestheatre.fr/wp-content/uploads/2022/12/Impro-481-scaled.jpg
END:VEVENT
BEGIN:VEVENT
DTSTART;TZID=Europe/Paris:20231010T133000
DTEND;TZID=Europe/Paris:20231010T150000
DTSTAMP:20260423T175125
CREATED:20231003T204153Z
LAST-MODIFIED:20231003T210025Z
UID:10060-1696944600-1696950000@desaxestheatre.fr
SUMMARY:10 octobre 2023 - Impros-Débat - Saint-Peray (07)
DESCRIPTION:Improvisations-Débat- Saison 2023-2024\n“L’aide aux aidants” Avec Lionel Armand\, Juliette Lemoine\, Séverine Anglada et Anthony Liébault.
URL:https://desaxestheatre.fr/evenement/10-octobre-2023-impros-debat-saint-peray-07/
CATEGORIES:Impros-débat,Théâtre
ATTACH;FMTTYPE=image/jpeg:https://desaxestheatre.fr/wp-content/uploads/2022/12/Impro-481-scaled.jpg
END:VEVENT
BEGIN:VEVENT
DTSTART;TZID=Europe/Paris:20231019T093000
DTEND;TZID=Europe/Paris:20231019T230000
DTSTAMP:20260423T175125
CREATED:20231003T211501Z
LAST-MODIFIED:20231003T211508Z
UID:10070-1697707800-1697756400@desaxestheatre.fr
SUMMARY:19 octobre 2023 - Impros-débat - Saint-Quentin-Fallavier (38)
DESCRIPTION:Impros-Débat sur la sécurité routière.\nReprésentation Scolaires ( Collège les allinges).\nAvec Lionel Armand\, Juliette Lemoine\, Séverine Anglada et Anthony Liébault.
URL:https://desaxestheatre.fr/evenement/19-octobre-2023-impros-debat-saint-quentin-fallavier-38/
LOCATION:Théâtre Georges Sand\, Saint-Quentin-Fallavier
CATEGORIES:Impros-débat,Théâtre
ATTACH;FMTTYPE=image/jpeg:https://desaxestheatre.fr/wp-content/uploads/2023/10/Impro-416-scaled.jpg
END:VEVENT
END:VCALENDAR