BEGIN:VCALENDAR
VERSION:2.0
PRODID:-//Compagnie Les Désaxés Théâtre - ECPv6.15.20//NONSGML v1.0//EN
CALSCALE:GREGORIAN
METHOD:PUBLISH
X-WR-CALNAME:Compagnie Les Désaxés Théâtre
X-ORIGINAL-URL:https://desaxestheatre.fr
X-WR-CALDESC:Évènements pour Compagnie Les Désaxés Théâtre
REFRESH-INTERVAL;VALUE=DURATION:PT1H
X-Robots-Tag:noindex
X-PUBLISHED-TTL:PT1H
BEGIN:VTIMEZONE
TZID:Europe/Paris
BEGIN:DAYLIGHT
TZOFFSETFROM:+0100
TZOFFSETTO:+0200
TZNAME:CEST
DTSTART:20230326T010000
END:DAYLIGHT
BEGIN:STANDARD
TZOFFSETFROM:+0200
TZOFFSETTO:+0100
TZNAME:CET
DTSTART:20231029T010000
END:STANDARD
BEGIN:DAYLIGHT
TZOFFSETFROM:+0100
TZOFFSETTO:+0200
TZNAME:CEST
DTSTART:20240331T010000
END:DAYLIGHT
BEGIN:STANDARD
TZOFFSETFROM:+0200
TZOFFSETTO:+0100
TZNAME:CET
DTSTART:20241027T010000
END:STANDARD
BEGIN:DAYLIGHT
TZOFFSETFROM:+0100
TZOFFSETTO:+0200
TZNAME:CEST
DTSTART:20250330T010000
END:DAYLIGHT
BEGIN:STANDARD
TZOFFSETFROM:+0200
TZOFFSETTO:+0100
TZNAME:CET
DTSTART:20251026T010000
END:STANDARD
END:VTIMEZONE
BEGIN:VEVENT
DTSTART;TZID=Europe/Paris:20240208T090000
DTEND;TZID=Europe/Paris:20240208T120000
DTSTAMP:20260423T104922
CREATED:20240208T165428Z
LAST-MODIFIED:20240208T165512Z
UID:10285-1707382800-1707393600@desaxestheatre.fr
SUMMARY:8 février 2024 - Impros-débat - MFR Sainte-Concorce ( 69)
DESCRIPTION:
URL:https://desaxestheatre.fr/evenement/8-fevrier-2024-impros-debat-mfr-sainte-concorce-69/
LOCATION:MRF Sainte-Concorse ( 69)
CATEGORIES:Impros-débat,spectacle,Théâtre
ATTACH;FMTTYPE=image/jpeg:https://desaxestheatre.fr/wp-content/uploads/2023/10/Impro-416-scaled.jpg
END:VEVENT
END:VCALENDAR