BEGIN:VCALENDAR
VERSION:2.0
PRODID:-//Compagnie Les Désaxés Théâtre - ECPv6.15.20//NONSGML v1.0//EN
CALSCALE:GREGORIAN
METHOD:PUBLISH
X-ORIGINAL-URL:https://desaxestheatre.fr
X-WR-CALDESC:Évènements pour Compagnie Les Désaxés Théâtre
REFRESH-INTERVAL;VALUE=DURATION:PT1H
X-Robots-Tag:noindex
X-PUBLISHED-TTL:PT1H
BEGIN:VTIMEZONE
TZID:Europe/Paris
BEGIN:DAYLIGHT
TZOFFSETFROM:+0100
TZOFFSETTO:+0200
TZNAME:CEST
DTSTART:20230326T010000
END:DAYLIGHT
BEGIN:STANDARD
TZOFFSETFROM:+0200
TZOFFSETTO:+0100
TZNAME:CET
DTSTART:20231029T010000
END:STANDARD
BEGIN:DAYLIGHT
TZOFFSETFROM:+0100
TZOFFSETTO:+0200
TZNAME:CEST
DTSTART:20240331T010000
END:DAYLIGHT
BEGIN:STANDARD
TZOFFSETFROM:+0200
TZOFFSETTO:+0100
TZNAME:CET
DTSTART:20241027T010000
END:STANDARD
BEGIN:DAYLIGHT
TZOFFSETFROM:+0100
TZOFFSETTO:+0200
TZNAME:CEST
DTSTART:20250330T010000
END:DAYLIGHT
BEGIN:STANDARD
TZOFFSETFROM:+0200
TZOFFSETTO:+0100
TZNAME:CET
DTSTART:20251026T010000
END:STANDARD
END:VTIMEZONE
BEGIN:VEVENT
DTSTART;TZID=Europe/Paris:20240323T080000
DTEND;TZID=Europe/Paris:20240323T140000
DTSTAMP:20260423T090927
CREATED:20240219T155808Z
LAST-MODIFIED:20240219T155902Z
UID:10308-1711180800-1711202400@desaxestheatre.fr
SUMMARY:Impros Débat - 23 mars 2024 - Yssingeaux ( 43)
DESCRIPTION:Impros-débat. Représentation à 14h00 ” le handicap” et à 15h30 ” aide aux aidants et bien vieillir”\nAvec Lionel Armand\, Juliette Lemoine\, Anthony Liébault et Séverine Anglada.
URL:https://desaxestheatre.fr/evenement/impros-debat-23-mars-2024-yssingeaux-43/
LOCATION:LEAP
CATEGORIES:Impros-débat,spectacle,Théâtre,théâtre citoyen
ATTACH;FMTTYPE=image/jpeg:https://desaxestheatre.fr/wp-content/uploads/2022/07/Impro-058.jpg
END:VEVENT
BEGIN:VEVENT
DTSTART;TZID=Europe/Paris:20240326T080000
DTEND;TZID=Europe/Paris:20240326T220000
DTSTAMP:20260423T090927
CREATED:20240219T161820Z
LAST-MODIFIED:20240219T162419Z
UID:10312-1711440000-1711490400@desaxestheatre.fr
SUMMARY:Impros-débat - Saint-André-de-Corcy (01)
DESCRIPTION:20h00\nImpros-débat sur le thème ” Harcèlement”\nAvec Lionel Armand\, Juliette Lemoine\, Anthony Liébault et Séverine Anglada.
URL:https://desaxestheatre.fr/evenement/impros-debat-saint-andre-de-corcy-01/
CATEGORIES:Impros-débat,spectacle,Théâtre
ATTACH;FMTTYPE=image/jpeg:https://desaxestheatre.fr/wp-content/uploads/2023/10/Impro-416-scaled.jpg
END:VEVENT
END:VCALENDAR