BEGIN:VCALENDAR
VERSION:2.0
PRODID:-//Compagnie Les Désaxés Théâtre - ECPv6.15.20//NONSGML v1.0//EN
CALSCALE:GREGORIAN
METHOD:PUBLISH
X-ORIGINAL-URL:https://desaxestheatre.fr
X-WR-CALDESC:Évènements pour Compagnie Les Désaxés Théâtre
REFRESH-INTERVAL;VALUE=DURATION:PT1H
X-Robots-Tag:noindex
X-PUBLISHED-TTL:PT1H
BEGIN:VTIMEZONE
TZID:Europe/Paris
BEGIN:DAYLIGHT
TZOFFSETFROM:+0100
TZOFFSETTO:+0200
TZNAME:CEST
DTSTART:20230326T010000
END:DAYLIGHT
BEGIN:STANDARD
TZOFFSETFROM:+0200
TZOFFSETTO:+0100
TZNAME:CET
DTSTART:20231029T010000
END:STANDARD
BEGIN:DAYLIGHT
TZOFFSETFROM:+0100
TZOFFSETTO:+0200
TZNAME:CEST
DTSTART:20240331T010000
END:DAYLIGHT
BEGIN:STANDARD
TZOFFSETFROM:+0200
TZOFFSETTO:+0100
TZNAME:CET
DTSTART:20241027T010000
END:STANDARD
BEGIN:DAYLIGHT
TZOFFSETFROM:+0100
TZOFFSETTO:+0200
TZNAME:CEST
DTSTART:20250330T010000
END:DAYLIGHT
BEGIN:STANDARD
TZOFFSETFROM:+0200
TZOFFSETTO:+0100
TZNAME:CET
DTSTART:20251026T010000
END:STANDARD
END:VTIMEZONE
BEGIN:VEVENT
DTSTART;TZID=Europe/Paris:20241001T140000
DTEND;TZID=Europe/Paris:20241001T163000
DTSTAMP:20260423T131557
CREATED:20240705T175526Z
LAST-MODIFIED:20240705T175642Z
UID:10516-1727791200-1727800200@desaxestheatre.fr
SUMMARY:01 octobre 2024 - Impros-débat - Meximieux (01)
DESCRIPTION:Coordination et écriture : Lionel Armand\nJeu : Anthony Liébault\, Séverine Angalda\, Juliette Lemoine et Lionel Armand
URL:https://desaxestheatre.fr/evenement/01-octobre-2024-impros-debat-meximieux-01/
LOCATION:Meximieux
CATEGORIES:Impros-débat,spectacle,Théâtre,théâtre citoyen
ATTACH;FMTTYPE=image/jpeg:https://desaxestheatre.fr/wp-content/uploads/2022/10/Impro-058.jpg
END:VEVENT
BEGIN:VEVENT
DTSTART;TZID=Europe/Paris:20241003T080000
DTEND;TZID=Europe/Paris:20241003T170000
DTSTAMP:20260423T131557
CREATED:20240904T154131Z
LAST-MODIFIED:20240904T154842Z
UID:10612-1727942400-1727974800@desaxestheatre.fr
SUMMARY:03 octobre 2024 - Impros-Débat - Théâtre citoyen - Chambonas ( 07)
DESCRIPTION:THEATRE CITOYEN\nCoordination et écriture : Lionel Armand\nJeu : Anthony Liébault\, Séverine Angalda\, Juliette Lemoine et Lionel Armand
URL:https://desaxestheatre.fr/evenement/03-octobre-2024-impros-debat-theatre-citoyen-chambonas-07/
LOCATION:Hopital des Cévennes Ardéchoises\, Chambonas
CATEGORIES:spectacle,Théâtre,théâtre citoyen
ATTACH;FMTTYPE=image/jpeg:https://desaxestheatre.fr/wp-content/uploads/2022/12/Impro-481-scaled.jpg
END:VEVENT
BEGIN:VEVENT
DTSTART;TZID=Europe/Paris:20241010T100000
DTEND;TZID=Europe/Paris:20241010T150000
DTSTAMP:20260423T131557
CREATED:20240904T154641Z
LAST-MODIFIED:20240904T154738Z
UID:10616-1728554400-1728572400@desaxestheatre.fr
SUMMARY:10 octobre 2024 - Impros-débat - Théâtre citoyen - Macon (01)
DESCRIPTION:THEATRE CITOYEN – spectacle : “La sécurité routière”\nCoordination et écriture : Lionel Armand\nJeu : Anthony Liébault\, Séverine Angalda\, Juliette Lemoine et Lionel Armand\nOrganisation  et programmation : CFA auto moto Macon
URL:https://desaxestheatre.fr/evenement/10-octobre-2024-impros-debat-theatre-citoyen-macon-01/
LOCATION:CFA Auto moto – Macon\, Macon
CATEGORIES:spectacle,Théâtre,théâtre citoyen
ATTACH;FMTTYPE=image/jpeg:https://desaxestheatre.fr/wp-content/uploads/2022/11/image.jpg
END:VEVENT
BEGIN:VEVENT
DTSTART;TZID=Europe/Paris:20241011T100000
DTEND;TZID=Europe/Paris:20241011T120000
DTSTAMP:20260423T131557
CREATED:20240912T142804Z
LAST-MODIFIED:20240912T145709Z
UID:10670-1728640800-1728648000@desaxestheatre.fr
SUMMARY:11 Octobre 2024 - Théâtre Citoyen - Le Puy-en-Velay (43)
DESCRIPTION:THEATRE CITOYEN\nCoordination et écriture : Lionel Armand\nJeu : Anthony Liébault\, Séverine Angalda\, Juliette Lemoine et Lionel Armand \nForum des aidants  à la Maison pour Tous de Chadrac (43).\n“Le lien familila face à la maladie : quel rôle\, quelle place pour l’aidant ?
URL:https://desaxestheatre.fr/evenement/11-octobre-2024-theatre-citoyen-le-puy-en-velay-43/
LOCATION:Maison pour tous – Chadrac
CATEGORIES:spectacle,Théâtre,théâtre citoyen
ATTACH;FMTTYPE=image/jpeg:https://desaxestheatre.fr/wp-content/uploads/2022/11/image.jpg
ORGANIZER;CN="Repit 43 Seniors":MAILTO:repit43.nazareth@habitat-humanisme.org
END:VEVENT
BEGIN:VEVENT
DTSTART;TZID=Europe/Paris:20241011T200000
DTEND;TZID=Europe/Paris:20241011T220000
DTSTAMP:20260423T131557
CREATED:20240904T155550Z
LAST-MODIFIED:20240904T155615Z
UID:10620-1728676800-1728684000@desaxestheatre.fr
SUMMARY:11 octobre 2024 - Impros-débat- Théâtre Citoyen - Annecy (74)
DESCRIPTION:THEATRE CITOYEN -” la vie de vie\, ça me concerne\, j’ai pigé”\nCoordination et écriture : Lionel Armand\nJeu : Anthony Liébault\, Séverine Angalda\, Juliette Lemoine et Lionel Armand\nAnimation : Arnaud Pirodon ( Psychologue)\nOrganisation  et programmation : JALMALV\, accompagner la vie
URL:https://desaxestheatre.fr/evenement/11-octobre-2024-impros-debat-theatre-citoyen-annecy-74/
LOCATION:Salle de L’Esty\, 1 place de la mairie\, Chavanod
CATEGORIES:spectacle,Théâtre,théâtre citoyen
ATTACH;FMTTYPE=image/jpeg:https://desaxestheatre.fr/wp-content/uploads/2019/06/Impro-083.jpg
END:VEVENT
BEGIN:VEVENT
DTSTART;TZID=Europe/Paris:20241017T103000
DTEND;TZID=Europe/Paris:20241017T120000
DTSTAMP:20260423T131557
CREATED:20240904T160119Z
LAST-MODIFIED:20240904T160119Z
UID:10623-1729161000-1729166400@desaxestheatre.fr
SUMMARY:17 octobre 2024 - Impros-Débat- Théâtre Citoyen - Saint-Quentin-Fallavier (38)
DESCRIPTION:THEATRE CITOYEN – spectacle : “La sécurité routière”\nCoordination et écriture : Lionel Armand\nJeu : Anthony Liébault\, Séverine Angalda\, Juliette Lemoine et Lionel Armand\nOrganisation  et programmation : Commune de Saint-Quentin-Fallavier -PJ et PIAJ –  collège Les alinges.
URL:https://desaxestheatre.fr/evenement/17-octobre-2024-impros-debat-theatre-citoyen-saint-quentin-fallavier-38/
LOCATION:Espace culturel George Sand\, 2\, rue des Marronniers\, Saint-Quentin-Fallavier\, 38070\, France
CATEGORIES:Impros-débat,spectacle,théâtre citoyen
ATTACH;FMTTYPE=image/jpeg:https://desaxestheatre.fr/wp-content/uploads/2022/12/Impro-481-scaled.jpg
END:VEVENT
BEGIN:VEVENT
DTSTART;TZID=Europe/Paris:20241018T200000
DTEND;TZID=Europe/Paris:20241018T220000
DTSTAMP:20260423T131557
CREATED:20240904T160913Z
LAST-MODIFIED:20240904T161923Z
UID:10626-1729281600-1729288800@desaxestheatre.fr
SUMMARY:18 octobre 2024 - Impros-débat - Théâtre citoyen - Brioude ( 43)
DESCRIPTION:THEATRE CITOYEN – spectacle : ” les réseaux sociaux et le cyber-Harcèlement”\nCoordination et écriture : Lionel Armand\nJeu : Anthony Liébault\, Séverine Anglada\, Juliette Lemoine et Lionel Armand\nOrganisation  et programmation : Declic de Brioude ( centre d’animation de la vie sociale)
URL:https://desaxestheatre.fr/evenement/18-octobre-2024-impros-debat-theatre-citoyen-brioude-43/
LOCATION:Declic de Brioude\, 26 avenue Jean Jaurès\, Brioude\, 43100
CATEGORIES:Impros-débat,spectacle,Théâtre,théâtre citoyen
ATTACH;FMTTYPE=image/jpeg:https://desaxestheatre.fr/wp-content/uploads/2022/11/compressImpro-221-scaled.jpg
END:VEVENT
END:VCALENDAR