BEGIN:VCALENDAR
VERSION:2.0
PRODID:-//Compagnie Les Désaxés Théâtre - ECPv6.15.20//NONSGML v1.0//EN
CALSCALE:GREGORIAN
METHOD:PUBLISH
X-ORIGINAL-URL:https://desaxestheatre.fr
X-WR-CALDESC:Évènements pour Compagnie Les Désaxés Théâtre
REFRESH-INTERVAL;VALUE=DURATION:PT1H
X-Robots-Tag:noindex
X-PUBLISHED-TTL:PT1H
BEGIN:VTIMEZONE
TZID:Europe/Paris
BEGIN:DAYLIGHT
TZOFFSETFROM:+0100
TZOFFSETTO:+0200
TZNAME:CEST
DTSTART:20230326T010000
END:DAYLIGHT
BEGIN:STANDARD
TZOFFSETFROM:+0200
TZOFFSETTO:+0100
TZNAME:CET
DTSTART:20231029T010000
END:STANDARD
BEGIN:DAYLIGHT
TZOFFSETFROM:+0100
TZOFFSETTO:+0200
TZNAME:CEST
DTSTART:20240331T010000
END:DAYLIGHT
BEGIN:STANDARD
TZOFFSETFROM:+0200
TZOFFSETTO:+0100
TZNAME:CET
DTSTART:20241027T010000
END:STANDARD
BEGIN:DAYLIGHT
TZOFFSETFROM:+0100
TZOFFSETTO:+0200
TZNAME:CEST
DTSTART:20250330T010000
END:DAYLIGHT
BEGIN:STANDARD
TZOFFSETFROM:+0200
TZOFFSETTO:+0100
TZNAME:CET
DTSTART:20251026T010000
END:STANDARD
END:VTIMEZONE
BEGIN:VEVENT
DTSTART;TZID=Europe/Paris:20240622T140000
DTEND;TZID=Europe/Paris:20240622T183000
DTSTAMP:20260423T221309
CREATED:20240602T213734Z
LAST-MODIFIED:20240602T213746Z
UID:10493-1719064800-1719081000@desaxestheatre.fr
SUMMARY:Théâtre Citoyen - Fondation Cognacq-Jay - Annemasse (74)
DESCRIPTION:“L’utilisation des écrans et la Fondation C-J” \nEcriture\, dramaturgie et conception : Lionel Armand\nAvec Anthony Liébault\, Lionel Armand\, Juliette Lemoine et Séverine Anglada
URL:https://desaxestheatre.fr/evenement/theatre-citoyen-fondation-cognacq-jay-annemasse-74/
LOCATION:Annemasse (74)
CATEGORIES:spectacle,théâtre citoyen
ATTACH;FMTTYPE=image/jpeg:https://desaxestheatre.fr/wp-content/uploads/2022/10/Impro-169-scaled.jpg
END:VEVENT
END:VCALENDAR