BEGIN:VCALENDAR
VERSION:2.0
PRODID:-//Compagnie Les Désaxés Théâtre - ECPv6.15.20//NONSGML v1.0//EN
CALSCALE:GREGORIAN
METHOD:PUBLISH
X-ORIGINAL-URL:https://desaxestheatre.fr
X-WR-CALDESC:Évènements pour Compagnie Les Désaxés Théâtre
REFRESH-INTERVAL;VALUE=DURATION:PT1H
X-Robots-Tag:noindex
X-PUBLISHED-TTL:PT1H
BEGIN:VTIMEZONE
TZID:Europe/Paris
BEGIN:DAYLIGHT
TZOFFSETFROM:+0100
TZOFFSETTO:+0200
TZNAME:CEST
DTSTART:20230326T010000
END:DAYLIGHT
BEGIN:STANDARD
TZOFFSETFROM:+0200
TZOFFSETTO:+0100
TZNAME:CET
DTSTART:20231029T010000
END:STANDARD
BEGIN:DAYLIGHT
TZOFFSETFROM:+0100
TZOFFSETTO:+0200
TZNAME:CEST
DTSTART:20240331T010000
END:DAYLIGHT
BEGIN:STANDARD
TZOFFSETFROM:+0200
TZOFFSETTO:+0100
TZNAME:CET
DTSTART:20241027T010000
END:STANDARD
BEGIN:DAYLIGHT
TZOFFSETFROM:+0100
TZOFFSETTO:+0200
TZNAME:CEST
DTSTART:20250330T010000
END:DAYLIGHT
BEGIN:STANDARD
TZOFFSETFROM:+0200
TZOFFSETTO:+0100
TZNAME:CET
DTSTART:20251026T010000
END:STANDARD
END:VTIMEZONE
BEGIN:VEVENT
DTSTART;TZID=Europe/Paris:20241119T153000
DTEND;TZID=Europe/Paris:20241119T173000
DTSTAMP:20260423T131749
CREATED:20240904T165057Z
LAST-MODIFIED:20240904T165117Z
UID:10637-1732030200-1732037400@desaxestheatre.fr
SUMMARY:19 novembre 2024 - Improvisation-Débat/Théâtre Citoyen- Tournon ( 07)
DESCRIPTION:THEATRE CITOYEN – spectacle : “On ne mourra pas d’en parler”\nCoordination et écriture : Lionel Armand\nJeu : Anthony Liébault\, Séverine Anglada\, Juliette Lemoine et Lionel Armand\nOrganisation et programmation : Arche Agglo.
URL:https://desaxestheatre.fr/evenement/19-novembre-2024-improvisation-debat-theatre-citoyen-tournon-07/
LOCATION:Salle Georges Brassens\, Tournon
CATEGORIES:spectacle,Théâtre,théâtre citoyen
ATTACH;FMTTYPE=image/jpeg:https://desaxestheatre.fr/wp-content/uploads/2023/10/Impro-416-scaled.jpg
END:VEVENT
END:VCALENDAR