BEGIN:VCALENDAR
VERSION:2.0
PRODID:-//Compagnie Les Désaxés Théâtre - ECPv6.15.20//NONSGML v1.0//EN
CALSCALE:GREGORIAN
METHOD:PUBLISH
X-ORIGINAL-URL:https://desaxestheatre.fr
X-WR-CALDESC:Évènements pour Compagnie Les Désaxés Théâtre
REFRESH-INTERVAL;VALUE=DURATION:PT1H
X-Robots-Tag:noindex
X-PUBLISHED-TTL:PT1H
BEGIN:VTIMEZONE
TZID:Europe/Paris
BEGIN:DAYLIGHT
TZOFFSETFROM:+0100
TZOFFSETTO:+0200
TZNAME:CEST
DTSTART:20230326T010000
END:DAYLIGHT
BEGIN:STANDARD
TZOFFSETFROM:+0200
TZOFFSETTO:+0100
TZNAME:CET
DTSTART:20231029T010000
END:STANDARD
BEGIN:DAYLIGHT
TZOFFSETFROM:+0100
TZOFFSETTO:+0200
TZNAME:CEST
DTSTART:20240331T010000
END:DAYLIGHT
BEGIN:STANDARD
TZOFFSETFROM:+0200
TZOFFSETTO:+0100
TZNAME:CET
DTSTART:20241027T010000
END:STANDARD
BEGIN:DAYLIGHT
TZOFFSETFROM:+0100
TZOFFSETTO:+0200
TZNAME:CEST
DTSTART:20250330T010000
END:DAYLIGHT
BEGIN:STANDARD
TZOFFSETFROM:+0200
TZOFFSETTO:+0100
TZNAME:CET
DTSTART:20251026T010000
END:STANDARD
END:VTIMEZONE
BEGIN:VEVENT
DTSTART;TZID=Europe/Paris:20241203T140000
DTEND;TZID=Europe/Paris:20241203T170000
DTSTAMP:20260423T112359
CREATED:20241119T221518Z
LAST-MODIFIED:20241119T221533Z
UID:10908-1733234400-1733245200@desaxestheatre.fr
SUMMARY:03 décembre 2024 - Théâtre citoyen- On ne mourra pas d'en jouer - Saint-Félicien ( 07)
DESCRIPTION:On ne mourra pas d’en jouer\nConception : Lionel Armand\nJeu : Juliette Lemoine\, Séverine Anglada\, Anthony Liébault et Lionel Armand\nProduction : Cie Les désaxés Théâtre\nChargée d’administration : Séverine Cohen \n  \nOrganisateur : Arche Aglo – Véronique Sybellin.
URL:https://desaxestheatre.fr/evenement/03-decembre-2024-theatre-citoyen-on-ne-mourra-pas-den-jouer-saint-felicien-07/
LOCATION:Saint-Félicien
CATEGORIES:spectacle,Théâtre,théâtre citoyen
ATTACH;FMTTYPE=image/jpeg:https://desaxestheatre.fr/wp-content/uploads/2024/10/302A8168-scaled.jpeg
END:VEVENT
END:VCALENDAR