BEGIN:VCALENDAR
VERSION:2.0
PRODID:-//Compagnie Les Désaxés Théâtre - ECPv6.15.20//NONSGML v1.0//EN
CALSCALE:GREGORIAN
METHOD:PUBLISH
X-WR-CALNAME:Compagnie Les Désaxés Théâtre
X-ORIGINAL-URL:https://desaxestheatre.fr
X-WR-CALDESC:Évènements pour Compagnie Les Désaxés Théâtre
REFRESH-INTERVAL;VALUE=DURATION:PT1H
X-Robots-Tag:noindex
X-PUBLISHED-TTL:PT1H
BEGIN:VTIMEZONE
TZID:Europe/Paris
BEGIN:DAYLIGHT
TZOFFSETFROM:+0100
TZOFFSETTO:+0200
TZNAME:CEST
DTSTART:20230326T010000
END:DAYLIGHT
BEGIN:STANDARD
TZOFFSETFROM:+0200
TZOFFSETTO:+0100
TZNAME:CET
DTSTART:20231029T010000
END:STANDARD
BEGIN:DAYLIGHT
TZOFFSETFROM:+0100
TZOFFSETTO:+0200
TZNAME:CEST
DTSTART:20240331T010000
END:DAYLIGHT
BEGIN:STANDARD
TZOFFSETFROM:+0200
TZOFFSETTO:+0100
TZNAME:CET
DTSTART:20241027T010000
END:STANDARD
BEGIN:DAYLIGHT
TZOFFSETFROM:+0100
TZOFFSETTO:+0200
TZNAME:CEST
DTSTART:20250330T010000
END:DAYLIGHT
BEGIN:STANDARD
TZOFFSETFROM:+0200
TZOFFSETTO:+0100
TZNAME:CET
DTSTART:20251026T010000
END:STANDARD
END:VTIMEZONE
BEGIN:VEVENT
DTSTART;TZID=Europe/Paris:20241206T140000
DTEND;TZID=Europe/Paris:20241206T160000
DTSTAMP:20260423T112228
CREATED:20240904T170230Z
LAST-MODIFIED:20241119T222057Z
UID:10645-1733493600-1733500800@desaxestheatre.fr
SUMMARY:06 décembre 2024 - Impros-débat/Théâtre Citoyen - Billom ( 63)
DESCRIPTION:THEATRE CITOYEN – spectacle : “Les aides à domicile”\nCoordination et écriture : Lionel Armand\nJeu : Anthony Liébault\, Séverine Anglada\, Juliette Lemoine et Lionel Armand\nOrganisation et programmation : Clic Billom
URL:https://desaxestheatre.fr/evenement/06-decembre-2024-impros-debat-theatre-citoyen-billom-63/
LOCATION:Billom
CATEGORIES:spectacle,Théâtre,théâtre citoyen
ATTACH;FMTTYPE=image/jpeg:https://desaxestheatre.fr/wp-content/uploads/2023/08/Impro-428-scaled.jpg
END:VEVENT
END:VCALENDAR