BEGIN:VCALENDAR
VERSION:2.0
PRODID:-//Compagnie Les Désaxés Théâtre - ECPv6.15.20//NONSGML v1.0//EN
CALSCALE:GREGORIAN
METHOD:PUBLISH
X-WR-CALNAME:Compagnie Les Désaxés Théâtre
X-ORIGINAL-URL:https://desaxestheatre.fr
X-WR-CALDESC:Évènements pour Compagnie Les Désaxés Théâtre
REFRESH-INTERVAL;VALUE=DURATION:PT1H
X-Robots-Tag:noindex
X-PUBLISHED-TTL:PT1H
BEGIN:VTIMEZONE
TZID:Europe/Paris
BEGIN:DAYLIGHT
TZOFFSETFROM:+0100
TZOFFSETTO:+0200
TZNAME:CEST
DTSTART:20240331T010000
END:DAYLIGHT
BEGIN:STANDARD
TZOFFSETFROM:+0200
TZOFFSETTO:+0100
TZNAME:CET
DTSTART:20241027T010000
END:STANDARD
BEGIN:DAYLIGHT
TZOFFSETFROM:+0100
TZOFFSETTO:+0200
TZNAME:CEST
DTSTART:20250330T010000
END:DAYLIGHT
BEGIN:STANDARD
TZOFFSETFROM:+0200
TZOFFSETTO:+0100
TZNAME:CET
DTSTART:20251026T010000
END:STANDARD
BEGIN:DAYLIGHT
TZOFFSETFROM:+0100
TZOFFSETTO:+0200
TZNAME:CEST
DTSTART:20260329T010000
END:DAYLIGHT
BEGIN:STANDARD
TZOFFSETFROM:+0200
TZOFFSETTO:+0100
TZNAME:CET
DTSTART:20261025T010000
END:STANDARD
END:VTIMEZONE
BEGIN:VEVENT
DTSTART;TZID=Europe/Paris:20250515T093000
DTEND;TZID=Europe/Paris:20250515T150000
DTSTAMP:20260423T015127
CREATED:20241220T114922Z
LAST-MODIFIED:20241220T114935Z
UID:10986-1747301400-1747321200@desaxestheatre.fr
SUMMARY:15 mai 2025 - Théâtre citoyen - Journée jeunesse Citoyenne - Vaugneray (69)
DESCRIPTION:
URL:https://desaxestheatre.fr/evenement/15-mai-2025-theatre-citoyen-journee-jeunesse-citoyenne-vaugneray-69/
LOCATION:MJC Vaugneray (69)
CATEGORIES:spectacle,Théâtre,théâtre citoyen
ATTACH;FMTTYPE=image/jpeg:https://desaxestheatre.fr/wp-content/uploads/2024/12/302A8214-scaled.jpeg
END:VEVENT
END:VCALENDAR