BEGIN:VCALENDAR
VERSION:2.0
PRODID:-//Compagnie Les Désaxés Théâtre - ECPv6.15.20//NONSGML v1.0//EN
CALSCALE:GREGORIAN
METHOD:PUBLISH
X-WR-CALNAME:Compagnie Les Désaxés Théâtre
X-ORIGINAL-URL:https://desaxestheatre.fr
X-WR-CALDESC:Évènements pour Compagnie Les Désaxés Théâtre
REFRESH-INTERVAL;VALUE=DURATION:PT1H
X-Robots-Tag:noindex
X-PUBLISHED-TTL:PT1H
BEGIN:VTIMEZONE
TZID:Europe/Paris
BEGIN:DAYLIGHT
TZOFFSETFROM:+0100
TZOFFSETTO:+0200
TZNAME:CEST
DTSTART:20240331T010000
END:DAYLIGHT
BEGIN:STANDARD
TZOFFSETFROM:+0200
TZOFFSETTO:+0100
TZNAME:CET
DTSTART:20241027T010000
END:STANDARD
BEGIN:DAYLIGHT
TZOFFSETFROM:+0100
TZOFFSETTO:+0200
TZNAME:CEST
DTSTART:20250330T010000
END:DAYLIGHT
BEGIN:STANDARD
TZOFFSETFROM:+0200
TZOFFSETTO:+0100
TZNAME:CET
DTSTART:20251026T010000
END:STANDARD
BEGIN:DAYLIGHT
TZOFFSETFROM:+0100
TZOFFSETTO:+0200
TZNAME:CEST
DTSTART:20260329T010000
END:DAYLIGHT
BEGIN:STANDARD
TZOFFSETFROM:+0200
TZOFFSETTO:+0100
TZNAME:CET
DTSTART:20261025T010000
END:STANDARD
END:VTIMEZONE
BEGIN:VEVENT
DTSTART;TZID=Europe/Paris:20250610T203000
DTEND;TZID=Europe/Paris:20250610T223000
DTSTAMP:20260423T000601
CREATED:20250316T152841Z
LAST-MODIFIED:20250316T153023Z
UID:11143-1749587400-1749594600@desaxestheatre.fr
SUMMARY:10 Juin 2025 - Théâtre Citoyen- Beaulieu (43)
DESCRIPTION:Concepteur : Lionel Armand\nJeu : Anthony Liébault\, Juliette Lemoine\, Séverine Anglada et Lionel Armand\nChargée d’administration : Séverine Cohen.\nProduction : Cie Les Désaxés Théâtre
URL:https://desaxestheatre.fr/evenement/10-juin-2025-theatre-citoyen-beaulieu-43/
LOCATION:Beaulieu
CATEGORIES:spectacle,Théâtre,théâtre citoyen
ATTACH;FMTTYPE=image/jpeg:https://desaxestheatre.fr/wp-content/uploads/2024/12/302A8140-scaled.jpeg
END:VEVENT
END:VCALENDAR