BEGIN:VCALENDAR
VERSION:2.0
PRODID:-//Compagnie Les Désaxés Théâtre - ECPv6.15.20//NONSGML v1.0//EN
CALSCALE:GREGORIAN
METHOD:PUBLISH
X-ORIGINAL-URL:https://desaxestheatre.fr
X-WR-CALDESC:Évènements pour Compagnie Les Désaxés Théâtre
REFRESH-INTERVAL;VALUE=DURATION:PT1H
X-Robots-Tag:noindex
X-PUBLISHED-TTL:PT1H
BEGIN:VTIMEZONE
TZID:Europe/Paris
BEGIN:DAYLIGHT
TZOFFSETFROM:+0100
TZOFFSETTO:+0200
TZNAME:CEST
DTSTART:20230326T010000
END:DAYLIGHT
BEGIN:STANDARD
TZOFFSETFROM:+0200
TZOFFSETTO:+0100
TZNAME:CET
DTSTART:20231029T010000
END:STANDARD
BEGIN:DAYLIGHT
TZOFFSETFROM:+0100
TZOFFSETTO:+0200
TZNAME:CEST
DTSTART:20240331T010000
END:DAYLIGHT
BEGIN:STANDARD
TZOFFSETFROM:+0200
TZOFFSETTO:+0100
TZNAME:CET
DTSTART:20241027T010000
END:STANDARD
BEGIN:DAYLIGHT
TZOFFSETFROM:+0100
TZOFFSETTO:+0200
TZNAME:CEST
DTSTART:20250330T010000
END:DAYLIGHT
BEGIN:STANDARD
TZOFFSETFROM:+0200
TZOFFSETTO:+0100
TZNAME:CET
DTSTART:20251026T010000
END:STANDARD
END:VTIMEZONE
BEGIN:VEVENT
DTSTART;TZID=Europe/Paris:20240508T080000
DTEND;TZID=Europe/Paris:20240508T170000
DTSTAMP:20260425T154153
CREATED:20240508T155349Z
LAST-MODIFIED:20240508T155546Z
UID:10440-1715155200-1715187600@desaxestheatre.fr
SUMMARY:28 mai 2024 - Théâtre citoyen - Ministère de la Justice - Lyon
DESCRIPTION:Théâtre citoyen\, conception de Lionel Armand avec Juliette Lemoine\, Séverine Anglada\, Anthony Liébault et Lionel Armand\n“Egalités et discriminations “.
URL:https://desaxestheatre.fr/evenement/28-mai-2024-theatre-citoyen-ministere-de-la-justice-lyon/
CATEGORIES:spectacle,Théâtre,théâtre citoyen
ATTACH;FMTTYPE=image/jpeg:https://desaxestheatre.fr/wp-content/uploads/2022/10/Impro-169-scaled.jpg
END:VEVENT
BEGIN:VEVENT
DTSTART;TZID=Europe/Paris:20240514T140000
DTEND;TZID=Europe/Paris:20240514T213000
DTSTAMP:20260425T154153
CREATED:20240308T130923Z
LAST-MODIFIED:20240308T131053Z
UID:10340-1715695200-1715722200@desaxestheatre.fr
SUMMARY:14 mai 2024 - Impros-débat - Bourg-en-Bresse (01)
DESCRIPTION:Représentations théâtrales à 15h00 et à 19h30.\nCoordinateur et concepteur : Lionel Armand\nAvec Lionel Armand\, Juliette Lemoine\, Séverine Anglada et Anthony Liébault.\nOrganisateur AIN APPUI
URL:https://desaxestheatre.fr/evenement/14-mai-2024-impros-debat-bourg-en-bresse-01/
CATEGORIES:Impros-débat,spectacle,Théâtre,théâtre citoyen
ATTACH;FMTTYPE=image/jpeg:https://desaxestheatre.fr/wp-content/uploads/2023/08/Impro-428-scaled.jpg
END:VEVENT
BEGIN:VEVENT
DTSTART;TZID=Europe/Paris:20240521T080000
DTEND;TZID=Europe/Paris:20240521T170000
DTSTAMP:20260425T154153
CREATED:20240308T131404Z
LAST-MODIFIED:20240308T131439Z
UID:10344-1716278400-1716310800@desaxestheatre.fr
SUMMARY:21 mai 2024 - Impros-débat - Villefontaine (38)
DESCRIPTION:Collège Delaunay\ndeux représentations Théâtrales\nConcepteur et organisateur : Lionel Armand\nAvec Anthony Liébault\, Séverine Anglada\, Juliette Lemoine et Lionel Armand
URL:https://desaxestheatre.fr/evenement/21-mai-2024-impros-debat-villefontaine-38/
LOCATION:collège sonia Delaunay\, Villefontaine\, France
CATEGORIES:spectacle,Théâtre,théâtre citoyen
ATTACH;FMTTYPE=image/jpeg:https://desaxestheatre.fr/wp-content/uploads/2023/08/Impro-428-scaled.jpg
END:VEVENT
BEGIN:VEVENT
DTSTART;TZID=Europe/Paris:20240523T203000
DTEND;TZID=Europe/Paris:20240525T220000
DTSTAMP:20260425T154153
CREATED:20240308T133113Z
LAST-MODIFIED:20240521T224650Z
UID:10354-1716496200-1716674400@desaxestheatre.fr
SUMMARY:23 au 25 mai 2024 - 7 minutes de Stefano Massini - Atelier théâtre adultes - Meyzieu
DESCRIPTION:Du jeudi 23 au 25 mai au Kédézar à 20h30 – Ateliers adultes théâtre.\n \n7 minutes de Stefano Massini – traduction de Pietro Pizzuti.\nDurée : 1h00. \nLes délégués du personnel de chez Picard & Roche sont réunis dans les locaux de l’entreprise. Les nouveaux actionnaires restructurent l’usine de textile. C’est un fait. Si les menaces d’un plan social immédiat ne sont pas véritablement exposées\, les discussions s’activent au sein du comité d’usine autour d’une proposition patronale insidieuse : Réduire le temps de pause. Le comité d’usine composé des salariées d’âges et d’origines divers se retrouve face à un dilemme qui met en opposition les conditions sociales et les convictions syndicales. Accepteront-ils unanimement de se soumettre à la négociation qui ne dit pas son nom ? \nLe théâtre de Stefano Massini est un magnifique coup de projecteur politique et social qui vient mettre en lumière les conséquences des dérives du capitalisme. \n« S’ils vous avaient demandé de choisir entre fermer l’usine ou rester\, mais en renonçant à la moitié de votre salaire. Vous auriez voté quoi ? Réponds-Moi ? » \nAvec Sarah Babouche\, Myriam Bouffartigues\, Léa Boyer\, Carole Bronner\, Chantal Cappo\, Guylaine Gerum\, Clément Goyon\, Annie Iung\, Christian Perrot\, Amal Philippe et Léo Quintin. \nAtelier théâtre dirigé par Lionel Armand \n«  S’ils vous avaient demandé de choisir entre fermer l’usine ou rester\, mais en renonçant à la moitié de votre salaire. Vous auriez voté quoi ? Réponds-Moi ? » \nTarifs entrée : 6 et 8 euros\nKédézar : adresse : 28 rue Louis Saulnier 69330 Meyzieu. Parking gratuit à proximité. Tram T3 – bus N°67\nRéservations au 04 78 04 20 62 ( dans la limite des places disponibles) ou contact@desaxextheatre.fr\n \n\n\n\n\nNavigation de l’article\n\nPrevious post:
URL:https://desaxestheatre.fr/evenement/25-mai-2024-representation-theatre-adultes-meyzieu/
LOCATION:Kédézar\, 28 rue de la république\, Meyzieu
CATEGORIES:spectacle,Théâtre,Transmission
ATTACH;FMTTYPE=image/jpeg:https://desaxestheatre.fr/wp-content/uploads/2024/05/Spectacles-ateliers-adultes-7-minutes-2024-page-1_page-0001.jpg
ORGANIZER;CN="Cie Les D%C3%A9sax%C3%A9s Th%C3%A9atre":MAILTO:contact@desaxestheatre.fr
END:VEVENT
BEGIN:VEVENT
DTSTART;TZID=Europe/Paris:20240530T090000
DTEND;TZID=Europe/Paris:20240530T150000
DTSTAMP:20260425T154153
CREATED:20240508T160702Z
LAST-MODIFIED:20240508T160702Z
UID:10447-1717059600-1717081200@desaxestheatre.fr
SUMMARY:30 mai 2024 - Impros-Débat/Théâtre Citoyen - Vaugneray (69).
DESCRIPTION:Théâtre citoyen ” les écrans”.\nPublics : élèves scolaires. CM.\nConception de Lionel Armand. jeu : Anthony Liébault\, Juliette Lemoine\, Séverine Anglada et Lionel Armand
URL:https://desaxestheatre.fr/evenement/30-mai-2024-impros-debat-theatre-citoyen-vaugneray-69/
LOCATION:MJC Vaugneray (69)
CATEGORIES:Théâtre,théâtre citoyen
ATTACH;FMTTYPE=image/jpeg:https://desaxestheatre.fr/wp-content/uploads/2022/11/Impros-debat-schuller-2-scaled.jpg
END:VEVENT
END:VCALENDAR