BEGIN:VCALENDAR
VERSION:2.0
PRODID:-//Compagnie Les Désaxés Théâtre - ECPv6.15.20//NONSGML v1.0//EN
CALSCALE:GREGORIAN
METHOD:PUBLISH
X-WR-CALNAME:Compagnie Les Désaxés Théâtre
X-ORIGINAL-URL:https://desaxestheatre.fr
X-WR-CALDESC:Évènements pour Compagnie Les Désaxés Théâtre
REFRESH-INTERVAL;VALUE=DURATION:PT1H
X-Robots-Tag:noindex
X-PUBLISHED-TTL:PT1H
BEGIN:VTIMEZONE
TZID:Europe/Paris
BEGIN:DAYLIGHT
TZOFFSETFROM:+0100
TZOFFSETTO:+0200
TZNAME:CEST
DTSTART:20230326T010000
END:DAYLIGHT
BEGIN:STANDARD
TZOFFSETFROM:+0200
TZOFFSETTO:+0100
TZNAME:CET
DTSTART:20231029T010000
END:STANDARD
BEGIN:DAYLIGHT
TZOFFSETFROM:+0100
TZOFFSETTO:+0200
TZNAME:CEST
DTSTART:20240331T010000
END:DAYLIGHT
BEGIN:STANDARD
TZOFFSETFROM:+0200
TZOFFSETTO:+0100
TZNAME:CET
DTSTART:20241027T010000
END:STANDARD
BEGIN:DAYLIGHT
TZOFFSETFROM:+0100
TZOFFSETTO:+0200
TZNAME:CEST
DTSTART:20250330T010000
END:DAYLIGHT
BEGIN:STANDARD
TZOFFSETFROM:+0200
TZOFFSETTO:+0100
TZNAME:CET
DTSTART:20251026T010000
END:STANDARD
END:VTIMEZONE
BEGIN:VEVENT
DTSTART;TZID=Europe/Paris:20240402T100000
DTEND;TZID=Europe/Paris:20240402T170000
DTSTAMP:20260425T154153
CREATED:20240329T124303Z
LAST-MODIFIED:20240329T124303Z
UID:10375-1712052000-1712077200@desaxestheatre.fr
SUMMARY:02 avril 2024 - Stage théâtre partie 2 - collège Geneviève Anthonioz de Gaulle - Cluses.
DESCRIPTION:Stage de Théâtre dirigé par Lionel Armand sur l’apprentissage du jeu d’acteur physique\, l’interprétation et la mise en espace du spectacle ” le ciel Rouge”.
URL:https://desaxestheatre.fr/evenement/02-avril-2024-stage-theatre-partie-2-college-genevieve-anthonioz-de-gaulle-cluses/
LOCATION:collège Geneviève Athonioz de Gaulle\, Cluses ( 74)
CATEGORIES:Théâtre,Transmission
ATTACH;FMTTYPE=image/jpeg:https://desaxestheatre.fr/wp-content/uploads/2024/01/302A2148-scaled.jpeg
END:VEVENT
END:VCALENDAR